BEGIN:VCALENDAR
VERSION:2.0
PRODID:-//Optical Scientific - ECPv6.5.1.5//NONSGML v1.0//EN
CALSCALE:GREGORIAN
METHOD:PUBLISH
X-ORIGINAL-URL:https://www.opticalscientific.com
X-WR-CALDESC:Events for Optical Scientific
REFRESH-INTERVAL;VALUE=DURATION:PT1H
X-Robots-Tag:noindex
X-PUBLISHED-TTL:PT1H
BEGIN:VTIMEZONE
TZID:UTC
BEGIN:STANDARD
TZOFFSETFROM:+0000
TZOFFSETTO:+0000
TZNAME:UTC
DTSTART:20220101T000000
END:STANDARD
END:VTIMEZONE
BEGIN:VEVENT
DTSTART;TZID=UTC:20220822T080000
DTEND;TZID=UTC:20220825T170000
DTSTAMP:20260421T192458
CREATED:20240716T063940Z
LAST-MODIFIED:20250630T103428Z
UID:295-1661155200-1661446800@www.opticalscientific.com
SUMMARY:2022 National Ambient Air Monitoring Conference
DESCRIPTION:  \nThe 2022 National Ambient Air Monitoring Conference\, sponsored by EPA in conjunction with the Association of Air Pollution Control Agencies (AAPCA) and the National Association of Clean Air Agencies (NACAA). \nOSI is in Booth 106  \nLean about our Patented Optical scintillation based sensors for monitoring Precipitation\, Present Weather\, Crosswinds & Atmospheric Turbulence.
URL:https://www.opticalscientific.com/event/2022-national-ambient-air-monitoring-conference/
LOCATION:The Westin Pittsburgh\, 1000 Penn Ave\, Pittsburgh\, PA\, 15222\, United States
ATTACH;FMTTYPE=image/png:https://www.opticalscientific.com/wp-content/uploads/2024/07/monitoring-con.png
END:VEVENT
END:VCALENDAR