BEGIN:VCALENDAR
VERSION:2.0
PRODID:-//Optical Scientific - ECPv6.5.1.5//NONSGML v1.0//EN
CALSCALE:GREGORIAN
METHOD:PUBLISH
X-WR-CALNAME:Optical Scientific
X-ORIGINAL-URL:https://www.opticalscientific.com
X-WR-CALDESC:Events for Optical Scientific
REFRESH-INTERVAL;VALUE=DURATION:PT1H
X-Robots-Tag:noindex
X-PUBLISHED-TTL:PT1H
BEGIN:VTIMEZONE
TZID:UTC
BEGIN:STANDARD
TZOFFSETFROM:+0000
TZOFFSETTO:+0000
TZNAME:UTC
DTSTART:20190101T000000
END:STANDARD
END:VTIMEZONE
BEGIN:VEVENT
DTSTART;TZID=UTC:20190605T080000
DTEND;TZID=UTC:20190607T170000
DTSTAMP:20260422T224633
CREATED:20240716T063401Z
LAST-MODIFIED:20250630T103658Z
UID:292-1559721600-1559926800@www.opticalscientific.com
SUMMARY:Meteorological Technology World Expo 2019
DESCRIPTION:This year\, we will be presenting our entire line of atmospheric sensors and systems. \nBrowse through our present weather sensors\, AWOS and MAWOS\, and see how OSI products can improve your operations while staying within your budget. We will be happy to show you what makes us best in the world at what we do. \nVisit us at Stand 5035.
URL:https://www.opticalscientific.com/event/meteorological-technology-world-expo-2019/
LOCATION:Hall 4\, Palexpo\, Geneva\, Swaziland
ATTACH;FMTTYPE=image/png:https://www.opticalscientific.com/wp-content/uploads/2024/07/expo-2019.png
END:VEVENT
BEGIN:VEVENT
DTSTART;TZID=UTC:20190304T080000
DTEND;TZID=UTC:20190307T170000
DTSTAMP:20260422T224633
CREATED:20240716T062924Z
LAST-MODIFIED:20250630T103538Z
UID:289-1551686400-1551978000@www.opticalscientific.com
SUMMARY:HAI HELI-EXPO
DESCRIPTION:HAI HELI-EXPO is where the global helicopter industry gathers to meet professionals\, build networks\, and discover solutions. This year OSI will be exhibiting our MAWOs and FAA – certified AWOS AV systems. Come by to discuss your AWOS\, AWS\, Cameo-compliant weather stations\, as well as advanced present weather/visibility sensor requirements.
URL:https://www.opticalscientific.com/event/hai-heli-expo/
LOCATION:Georgia World Congress Center 285 Andrew\, Young International Blvd NW\,\, Atlanta\, GA\, 30313\, United States
ATTACH;FMTTYPE=image/png:https://www.opticalscientific.com/wp-content/uploads/2024/07/hai-heli-expo.png
END:VEVENT
END:VCALENDAR